BEGIN:VCALENDAR
VERSION:2.0
PRODID:-//Wittener Bach-Chor e.V. - ECPv6.15.20//NONSGML v1.0//EN
CALSCALE:GREGORIAN
METHOD:PUBLISH
X-WR-CALNAME:Wittener Bach-Chor e.V.
X-ORIGINAL-URL:https://wittener-bachchor.de
X-WR-CALDESC:Veranstaltungen für Wittener Bach-Chor e.V.
REFRESH-INTERVAL;VALUE=DURATION:PT1H
X-Robots-Tag:noindex
X-PUBLISHED-TTL:PT1H
BEGIN:VTIMEZONE
TZID:Europe/Berlin
BEGIN:DAYLIGHT
TZOFFSETFROM:+0100
TZOFFSETTO:+0200
TZNAME:CEST
DTSTART:20250330T010000
END:DAYLIGHT
BEGIN:STANDARD
TZOFFSETFROM:+0200
TZOFFSETTO:+0100
TZNAME:CET
DTSTART:20251026T010000
END:STANDARD
BEGIN:DAYLIGHT
TZOFFSETFROM:+0100
TZOFFSETTO:+0200
TZNAME:CEST
DTSTART:20260329T010000
END:DAYLIGHT
BEGIN:STANDARD
TZOFFSETFROM:+0200
TZOFFSETTO:+0100
TZNAME:CET
DTSTART:20261025T010000
END:STANDARD
BEGIN:DAYLIGHT
TZOFFSETFROM:+0100
TZOFFSETTO:+0200
TZNAME:CEST
DTSTART:20270328T010000
END:DAYLIGHT
BEGIN:STANDARD
TZOFFSETFROM:+0200
TZOFFSETTO:+0100
TZNAME:CET
DTSTART:20271031T010000
END:STANDARD
END:VTIMEZONE
BEGIN:VEVENT
DTSTART;TZID=Europe/Berlin:20260427T194500
DTEND;TZID=Europe/Berlin:20260427T214500
DTSTAMP:20260424T152353
CREATED:20260122T194651Z
LAST-MODIFIED:20260122T194651Z
UID:1426-1777319100-1777326300@wittener-bachchor.de
SUMMARY:Probe
DESCRIPTION:
URL:https://wittener-bachchor.de/event/probe-12/
LOCATION:Martin-Luther Zentrum\, Ardeystraße 138\, Witten\, 58453\, Deutschland
END:VEVENT
BEGIN:VEVENT
DTSTART;TZID=Europe/Berlin:20260504T194500
DTEND;TZID=Europe/Berlin:20260504T214500
DTSTAMP:20260424T152353
CREATED:20260416T193646Z
LAST-MODIFIED:20260416T193646Z
UID:1453-1777923900-1777931100@wittener-bachchor.de
SUMMARY:Probe
DESCRIPTION:
URL:https://wittener-bachchor.de/event/probe-14/
LOCATION:Martin-Luther Zentrum\, Ardeystraße 138\, Witten\, 58453\, Deutschland
END:VEVENT
BEGIN:VEVENT
DTSTART;TZID=Europe/Berlin:20260511T194500
DTEND;TZID=Europe/Berlin:20260511T214500
DTSTAMP:20260424T152353
CREATED:20260122T194729Z
LAST-MODIFIED:20260122T194729Z
UID:1428-1778528700-1778535900@wittener-bachchor.de
SUMMARY:Probe
DESCRIPTION:
URL:https://wittener-bachchor.de/event/probe-13/
LOCATION:Martin-Luther Zentrum\, Ardeystraße 138\, Witten\, 58453\, Deutschland
END:VEVENT
BEGIN:VEVENT
DTSTART;TZID=Europe/Berlin:20260518T194500
DTEND;TZID=Europe/Berlin:20260518T214500
DTSTAMP:20260424T152353
CREATED:20260416T193724Z
LAST-MODIFIED:20260416T193724Z
UID:1455-1779133500-1779140700@wittener-bachchor.de
SUMMARY:Probe
DESCRIPTION:
URL:https://wittener-bachchor.de/event/probe-15/
LOCATION:Martin-Luther Zentrum\, Ardeystraße 138\, Witten\, 58453\, Deutschland
END:VEVENT
BEGIN:VEVENT
DTSTART;TZID=Europe/Berlin:20260520T100000
DTEND;TZID=Europe/Berlin:20260520T120000
DTSTAMP:20260424T152353
CREATED:20260416T194127Z
LAST-MODIFIED:20260416T194136Z
UID:1457-1779271200-1779278400@wittener-bachchor.de
SUMMARY:Probe
DESCRIPTION:Gemeindehaus St. Bonifatius\, Hönnetalstr. 62a in Hemer (Hanno Kreft)
URL:https://wittener-bachchor.de/event/probe-17/
END:VEVENT
BEGIN:VEVENT
DTSTART;TZID=Europe/Berlin:20260526T194500
DTEND;TZID=Europe/Berlin:20260526T214500
DTSTAMP:20260424T152353
CREATED:20260416T194252Z
LAST-MODIFIED:20260416T194252Z
UID:1460-1779824700-1779831900@wittener-bachchor.de
SUMMARY:Probe
DESCRIPTION:Gemeindehaus (Martin-Luther-Haus) an der Obersten Stadtkirche\, Am Bilstein 14\, 58636 Iserlohn (Hanns-Peter Springer)
URL:https://wittener-bachchor.de/event/probe-19/
END:VEVENT
BEGIN:VEVENT
DTSTART;TZID=Europe/Berlin:20260601T194500
DTEND;TZID=Europe/Berlin:20260601T214500
DTSTAMP:20260424T152353
CREATED:20260416T194350Z
LAST-MODIFIED:20260416T194350Z
UID:1462-1780343100-1780350300@wittener-bachchor.de
SUMMARY:Probe
DESCRIPTION:
URL:https://wittener-bachchor.de/event/probe-20/
LOCATION:Martin-Luther Zentrum\, Ardeystraße 138\, Witten\, 58453\, Deutschland
END:VEVENT
BEGIN:VEVENT
DTSTART;TZID=Europe/Berlin:20260602T194500
DTEND;TZID=Europe/Berlin:20260602T214500
DTSTAMP:20260424T152353
CREATED:20260416T194515Z
LAST-MODIFIED:20260416T194515Z
UID:1464-1780429500-1780436700@wittener-bachchor.de
SUMMARY:Probe
DESCRIPTION:Gemeindehaus (Martin-Luther-Haus) an der Obersten Stadtkirche\, Am Bilstein 14\, 58636 Iserlohn (Hanns-Peter Springer)
URL:https://wittener-bachchor.de/event/probe-21/
END:VEVENT
BEGIN:VEVENT
DTSTART;TZID=Europe/Berlin:20260608T194500
DTEND;TZID=Europe/Berlin:20260608T214500
DTSTAMP:20260424T152353
CREATED:20260416T194553Z
LAST-MODIFIED:20260416T194553Z
UID:1466-1780947900-1780955100@wittener-bachchor.de
SUMMARY:Probe
DESCRIPTION:
URL:https://wittener-bachchor.de/event/probe-22/
LOCATION:Martin-Luther Zentrum\, Ardeystraße 138\, Witten\, 58453\, Deutschland
END:VEVENT
BEGIN:VEVENT
DTSTART;TZID=Europe/Berlin:20260614T100000
DTEND;TZID=Europe/Berlin:20260614T150000
DTSTAMP:20260424T152353
CREATED:20260414T191010Z
LAST-MODIFIED:20260414T191010Z
UID:1443-1781431200-1781449200@wittener-bachchor.de
SUMMARY:Probentag
DESCRIPTION:Sonderprobe „Dichterliebe“
URL:https://wittener-bachchor.de/event/probentag/
LOCATION:Paul-Schneider-Haus\, Ostenschlahstraße 2\, Hemer\, 58675\, Deutschland
END:VEVENT
BEGIN:VEVENT
DTSTART;TZID=Europe/Berlin:20260615T194500
DTEND;TZID=Europe/Berlin:20260615T214500
DTSTAMP:20260424T152353
CREATED:20260416T194722Z
LAST-MODIFIED:20260416T194722Z
UID:1468-1781552700-1781559900@wittener-bachchor.de
SUMMARY:Probe
DESCRIPTION:
URL:https://wittener-bachchor.de/event/probe-23/
LOCATION:Martin-Luther Zentrum\, Ardeystraße 138\, Witten\, 58453\, Deutschland
END:VEVENT
BEGIN:VEVENT
DTSTART;TZID=Europe/Berlin:20260622T194500
DTEND;TZID=Europe/Berlin:20260622T214500
DTSTAMP:20260424T152353
CREATED:20260416T194821Z
LAST-MODIFIED:20260416T194821Z
UID:1470-1782157500-1782164700@wittener-bachchor.de
SUMMARY:Probe
DESCRIPTION:
URL:https://wittener-bachchor.de/event/probe-24/
LOCATION:Martin-Luther Zentrum\, Ardeystraße 138\, Witten\, 58453\, Deutschland
END:VEVENT
BEGIN:VEVENT
DTSTART;TZID=Europe/Berlin:20260624T193000
DTEND;TZID=Europe/Berlin:20260624T213000
DTSTAMP:20260424T152353
CREATED:20260416T194915Z
LAST-MODIFIED:20260416T194915Z
UID:1472-1782329400-1782336600@wittener-bachchor.de
SUMMARY:Generalprobe
DESCRIPTION:
URL:https://wittener-bachchor.de/event/generalprobe-2/
LOCATION:Ebbergkirche Hemer\, Kirchstraße\, Hemer\, NRW\, 58675\, Deutschland
END:VEVENT
BEGIN:VEVENT
DTSTART;TZID=Europe/Berlin:20260627T150000
DTEND;TZID=Europe/Berlin:20260627T200000
DTSTAMP:20260424T152353
CREATED:20251003T170548Z
LAST-MODIFIED:20260416T194955Z
UID:1367-1782572400-1782590400@wittener-bachchor.de
SUMMARY:Jubiläumsfest
DESCRIPTION:Die Martin-Luther-Kantorei wird 80.
URL:https://wittener-bachchor.de/event/jubilaeumsfest/
END:VEVENT
BEGIN:VEVENT
DTSTART;TZID=Europe/Berlin:20260629T194500
DTEND;TZID=Europe/Berlin:20260629T214500
DTSTAMP:20260424T152353
CREATED:20260416T195039Z
LAST-MODIFIED:20260416T195039Z
UID:1474-1782762300-1782769500@wittener-bachchor.de
SUMMARY:Probe
DESCRIPTION:
URL:https://wittener-bachchor.de/event/probe-25/
LOCATION:Martin-Luther Zentrum\, Ardeystraße 138\, Witten\, 58453\, Deutschland
END:VEVENT
BEGIN:VEVENT
DTSTART;TZID=Europe/Berlin:20260706T194500
DTEND;TZID=Europe/Berlin:20260706T214500
DTSTAMP:20260424T152353
CREATED:20260416T195124Z
LAST-MODIFIED:20260416T195124Z
UID:1476-1783367100-1783374300@wittener-bachchor.de
SUMMARY:Probe
DESCRIPTION:
URL:https://wittener-bachchor.de/event/probe-26/
LOCATION:Martin-Luther Zentrum\, Ardeystraße 138\, Witten\, 58453\, Deutschland
END:VEVENT
BEGIN:VEVENT
DTSTART;TZID=Europe/Berlin:20260713T194500
DTEND;TZID=Europe/Berlin:20260713T214500
DTSTAMP:20260424T152353
CREATED:20260416T195158Z
LAST-MODIFIED:20260416T195158Z
UID:1478-1783971900-1783979100@wittener-bachchor.de
SUMMARY:Probe
DESCRIPTION:
URL:https://wittener-bachchor.de/event/probe-27/
LOCATION:Martin-Luther Zentrum\, Ardeystraße 138\, Witten\, 58453\, Deutschland
END:VEVENT
BEGIN:VEVENT
DTSTART;TZID=Europe/Berlin:20260720T194500
DTEND;TZID=Europe/Berlin:20260720T214500
DTSTAMP:20260424T152353
CREATED:20260416T195234Z
LAST-MODIFIED:20260416T195234Z
UID:1480-1784576700-1784583900@wittener-bachchor.de
SUMMARY:Probe
DESCRIPTION:
URL:https://wittener-bachchor.de/event/probe-28/
LOCATION:Martin-Luther Zentrum\, Ardeystraße 138\, Witten\, 58453\, Deutschland
END:VEVENT
BEGIN:VEVENT
DTSTART;TZID=Europe/Berlin:20260727T194500
DTEND;TZID=Europe/Berlin:20260727T214500
DTSTAMP:20260424T152353
CREATED:20260416T195306Z
LAST-MODIFIED:20260416T195306Z
UID:1482-1785181500-1785188700@wittener-bachchor.de
SUMMARY:Probe
DESCRIPTION:
URL:https://wittener-bachchor.de/event/probe-29/
LOCATION:Martin-Luther Zentrum\, Ardeystraße 138\, Witten\, 58453\, Deutschland
END:VEVENT
BEGIN:VEVENT
DTSTART;TZID=Europe/Berlin:20260803T194500
DTEND;TZID=Europe/Berlin:20260803T214500
DTSTAMP:20260424T152353
CREATED:20260416T195355Z
LAST-MODIFIED:20260416T195355Z
UID:1484-1785786300-1785793500@wittener-bachchor.de
SUMMARY:Probe
DESCRIPTION:
URL:https://wittener-bachchor.de/event/probe-30/
LOCATION:Martin-Luther Zentrum\, Ardeystraße 138\, Witten\, 58453\, Deutschland
END:VEVENT
BEGIN:VEVENT
DTSTART;TZID=Europe/Berlin:20260810T194500
DTEND;TZID=Europe/Berlin:20260810T214500
DTSTAMP:20260424T152353
CREATED:20260416T195429Z
LAST-MODIFIED:20260416T195429Z
UID:1486-1786391100-1786398300@wittener-bachchor.de
SUMMARY:Probe
DESCRIPTION:
URL:https://wittener-bachchor.de/event/probe-31/
LOCATION:Martin-Luther Zentrum\, Ardeystraße 138\, Witten\, 58453\, Deutschland
END:VEVENT
BEGIN:VEVENT
DTSTART;TZID=Europe/Berlin:20260817T194500
DTEND;TZID=Europe/Berlin:20260817T214500
DTSTAMP:20260424T152353
CREATED:20260416T195511Z
LAST-MODIFIED:20260416T195511Z
UID:1488-1786995900-1787003100@wittener-bachchor.de
SUMMARY:Probe
DESCRIPTION:
URL:https://wittener-bachchor.de/event/probe-32/
LOCATION:Martin-Luther Zentrum\, Ardeystraße 138\, Witten\, 58453\, Deutschland
END:VEVENT
BEGIN:VEVENT
DTSTART;TZID=Europe/Berlin:20260823T140000
DTEND;TZID=Europe/Berlin:20260823T180000
DTSTAMP:20260424T152353
CREATED:20260414T191147Z
LAST-MODIFIED:20260414T191147Z
UID:1445-1787493600-1787508000@wittener-bachchor.de
SUMMARY:Probentag
DESCRIPTION:Sonderprobe „Dichterliebe“
URL:https://wittener-bachchor.de/event/probentag-2/
LOCATION:FeG Wetter\, Schöntaler Str. 2\, Wetter\, 58300\, Germany
END:VEVENT
BEGIN:VEVENT
DTSTART;TZID=Europe/Berlin:20260824T194500
DTEND;TZID=Europe/Berlin:20260824T214500
DTSTAMP:20260424T152353
CREATED:20260416T195710Z
LAST-MODIFIED:20260416T195710Z
UID:1490-1787600700-1787607900@wittener-bachchor.de
SUMMARY:Probe
DESCRIPTION:
URL:https://wittener-bachchor.de/event/probe-33/
LOCATION:Martin-Luther Zentrum\, Ardeystraße 138\, Witten\, 58453\, Deutschland
END:VEVENT
BEGIN:VEVENT
DTSTART;TZID=Europe/Berlin:20260831T194500
DTEND;TZID=Europe/Berlin:20260831T214500
DTSTAMP:20260424T152353
CREATED:20260416T195759Z
LAST-MODIFIED:20260416T195939Z
UID:1492-1788205500-1788212700@wittener-bachchor.de
SUMMARY:Gesamtprobe
DESCRIPTION:Gesamtprobe „Dichterliebe“
URL:https://wittener-bachchor.de/event/gesamtprobe/
LOCATION:Martin-Luther Zentrum\, Ardeystraße 138\, Witten\, 58453\, Deutschland
END:VEVENT
BEGIN:VEVENT
DTSTART;TZID=Europe/Berlin:20260902T193000
DTEND;TZID=Europe/Berlin:20260902T213000
DTSTAMP:20260424T152353
CREATED:20260416T195859Z
LAST-MODIFIED:20260416T195949Z
UID:1494-1788377400-1788384600@wittener-bachchor.de
SUMMARY:Gesamtprobe
DESCRIPTION:Gesamtprobe „Dichterliebe“
URL:https://wittener-bachchor.de/event/gesamtprobe-2/
LOCATION:Haus Hemer\, Geitbecke 8\, Hemer\, NRW\, 58675
END:VEVENT
BEGIN:VEVENT
DTSTART;TZID=Europe/Berlin:20260905T150000
DTEND;TZID=Europe/Berlin:20260905T170000
DTSTAMP:20260424T152353
CREATED:20260416T200230Z
LAST-MODIFIED:20260416T200230Z
UID:1500-1788620400-1788627600@wittener-bachchor.de
SUMMARY:Generalprobe
DESCRIPTION:Robert Schumann / Hye-Young Cho „Dichterliebe“ op. 48
URL:https://wittener-bachchor.de/event/generalprobe-3/
LOCATION:Haus Hemer\, Geitbecke 8\, Hemer\, NRW\, 58675
END:VEVENT
BEGIN:VEVENT
DTSTART;TZID=Europe/Berlin:20260905T180000
DTEND;TZID=Europe/Berlin:20260905T193000
DTSTAMP:20260424T152353
CREATED:20251003T171004Z
LAST-MODIFIED:20260416T202051Z
UID:1369-1788631200-1788636600@wittener-bachchor.de
SUMMARY:Robert Schumann / Hye-Young Cho „Dichterliebe“ op. 48
DESCRIPTION:
URL:https://wittener-bachchor.de/event/konzert/
LOCATION:Haus Hemer\, Geitbecke 8\, Hemer\, NRW\, 58675
END:VEVENT
BEGIN:VEVENT
DTSTART;TZID=Europe/Berlin:20260906T150000
DTEND;TZID=Europe/Berlin:20260906T160000
DTSTAMP:20260424T152353
CREATED:20260416T200331Z
LAST-MODIFIED:20260416T200331Z
UID:1502-1788706800-1788710400@wittener-bachchor.de
SUMMARY:Ansingen
DESCRIPTION:Robert Schumann / Hye-Young Cho „Dichterliebe“ op. 48 \nOrt wird noch bekannt gegeben
URL:https://wittener-bachchor.de/event/ansingen-2/
END:VEVENT
BEGIN:VEVENT
DTSTART;TZID=Europe/Berlin:20260906T170000
DTEND;TZID=Europe/Berlin:20260906T183000
DTSTAMP:20260424T152353
CREATED:20251003T171115Z
LAST-MODIFIED:20260416T201954Z
UID:1371-1788714000-1788719400@wittener-bachchor.de
SUMMARY:Robert Schumann / Hye-Young Cho „Dichterliebe“ op. 48
DESCRIPTION:Ort wird noch bekannt gegeben.
URL:https://wittener-bachchor.de/event/konzert-2/
END:VEVENT
END:VCALENDAR